BEGIN:VCALENDAR
PRODID:-//Microsoft Corporation//Outlook MIMEDIR//EN
VERSION:2.0
METHOD:PUBLISH
BEGIN:VEVENT
DTSTART:20260417T180000
DTEND:20260417T190000
DESCRIPTION:NOTICE OF EVENT ATTENDANCE
LOCATION:21 N Greenwood Ave. Tulsa, OK 74120
SUMMARY:Event Attendance
CATEGORIES:MEETING
END:VEVENT
END:VCALENDAR
