BEGIN:VCALENDAR
PRODID:-//Microsoft Corporation//Outlook MIMEDIR//EN
VERSION:2.0
METHOD:PUBLISH
BEGIN:VEVENT
DTSTART:20260425T100000
DTEND:20260425T110000
DESCRIPTION:NOTICE OF EVENT ATTENDANCE
LOCATION:NEW ORLEANS SQUARE New Orleans St and Elm Pl Broken Arrow, OK  74012
SUMMARY:Event Attendance
CATEGORIES:MEETING
END:VEVENT
END:VCALENDAR
