BEGIN:VCALENDAR
PRODID:-//Microsoft Corporation//Outlook MIMEDIR//EN
VERSION:2.0
METHOD:PUBLISH
BEGIN:VEVENT
DTSTART:20260423T180000
DTEND:20260423T190000
DESCRIPTION:NOTICE OF EVENT ATTENDANCE
LOCATION:Nienhuis Park Community Center 3201 N 9th St, Broken Arrow, OK 74012
SUMMARY:Event Attendance
CATEGORIES:MEETING
END:VEVENT
END:VCALENDAR
