BEGIN:VCALENDAR
PRODID:-//Microsoft Corporation//Outlook MIMEDIR//EN
VERSION:2.0
METHOD:PUBLISH
BEGIN:VEVENT
DTSTART:20260423T144500
DTEND:20260423T154500
DESCRIPTION:NOTICE OF EVENT ATTENDANCE
LOCATION:BROKEN ARROW HIGH SCHOOL 1901 E Albany St Broken Arrow, OK 74012
SUMMARY:Event Attendance
CATEGORIES:MEETING
END:VEVENT
END:VCALENDAR
