BEGIN:VCALENDAR
PRODID:-//Microsoft Corporation//Outlook MIMEDIR//EN
VERSION:2.0
METHOD:PUBLISH
BEGIN:VEVENT
DTSTART:20260415T113000
DTEND:20260415T123000
DESCRIPTION:NOTICE OF EVENT ATTENDANCE
LOCATION:QUIKTRIP 5230 E KENOSHA ST BROKEN ARROW, OK
SUMMARY:Event Attendance
CATEGORIES:MEETING
END:VEVENT
END:VCALENDAR
