BEGIN:VCALENDAR
PRODID:-//Microsoft Corporation//Outlook MIMEDIR//EN
VERSION:2.0
METHOD:PUBLISH
BEGIN:VEVENT
DTSTART:20260424T090000
DTEND:20260424T100000
DESCRIPTION:NOTICE OF EVENT ATTENDANCE
LOCATION:Central Park Community Center 1500 South Main Broken Arrow, OK  74012
SUMMARY:Event Attendance
CATEGORIES:MEETING
END:VEVENT
END:VCALENDAR
